BEGIN:VCALENDAR
VERSION:2.0
PRODID:-//Smart Light-Hub - ECPv5.6.0//NONSGML v1.0//EN
CALSCALE:GREGORIAN
METHOD:PUBLISH
X-WR-CALNAME:Smart Light-Hub
X-ORIGINAL-URL:http://smartlighthub.eu
X-WR-CALDESC:évènements pour Smart Light-Hub
BEGIN:VTIMEZONE
TZID:Europe/Brussels
BEGIN:DAYLIGHT
TZOFFSETFROM:+0100
TZOFFSETTO:+0200
TZNAME:CEST
DTSTART:20220327T010000
END:DAYLIGHT
BEGIN:STANDARD
TZOFFSETFROM:+0200
TZOFFSETTO:+0100
TZNAME:CET
DTSTART:20221030T010000
END:STANDARD
END:VTIMEZONE
BEGIN:VEVENT
DTSTART;TZID=Europe/Brussels:20220913T130000
DTEND;TZID=Europe/Brussels:20220913T170000
DTSTAMP:20260424T092646
CREATED:20220825T082638Z
LAST-MODIFIED:20220902T134349Z
UID:3509-1663074000-1663088400@smartlighthub.eu
SUMMARY:Atelier participatif "Biodiversité et éclairage" - Présentation des luminaires passifs créés par le street artiste FOSR
DESCRIPTION:INVITATION \nCOMMENT PRÉSERVER LA FAUNE ET LA FLORE D’UN ÉCLAIRAGE  EXCESSIF \nLa préservation de la faune et de la flore vous intéresse ? Vous voulez en savoir plus sur la manière de combiner éclairage raisonné et protection de la biodiversité ? \nLe 13 septembre 2022\, rejoignez‑nous à 13h00 sur le site de BLIIIDA\, à Metz ! \nAu programme : un atelier d’échanges\, de la créativité\, des solutions locales à un problème général\, la pollution lumineuse. Différentes expertises et points de vue seront mis en commun (créatifs\, scientifiques\, citoyens\, chercheurs\, pouvoirs publics). \nPRÉSENTATION DES LUMINAIRES PASSIFS CRÉÉS PAR LE STREET ARTISTE FOSR \nCette rencontre sera également l’occasion de présenter les résultats de l’appel à projets remporté par l’un des résidents de Bliiida : le street artiste FOSR. Venez découvrir comment le monde créatif s’empare d’une thématique scientifique et apporte des solutions low tech et originales à la question de la pollution lumineuse. L’artiste exposera ses prototypes de luminaires passifs ainsi que la démarche créative adoptée. Cette discussion sera par ailleurs l’occasion de présenter les prochains appels à projets créatifs qui seront lancés par le Smart Light Hub dans les semaines à venir. \nLe projet Interreg V A Grande Région Smart Light Hub – Objectif et spécificité \nObjectif : faire émerger des réponses collectives à des besoins non satisfaits en matière d’éclairage artificiel. Parvenir à une vision de l’éclairage dans les espaces publics et privatifs qui soit novatrice\, respectueuse des écosystèmes\, créative et économiquement rentable. \nOriginalité de l’initiative : une approche intégrée de l’éclairage artificiel prenant en compte à la fois les critères énergétiques et ceux liés à la préservation de la biodiversité. \nPROGRAMME \n\n\n\n13h00 – Accueil et présentation du projet Smart Light Hub \n13h15 – La pollution lumineuse sous l’angle de la biodiversité par Nicolas Hoffait (Natagora) \n13h45 – L’optimisation des couloirs de connexion pour améliorer la conservation de la biodiversité par Élodie Bebronne  (HEC-ULiège) \n14h15 – Pause \n14h30 – La Métropole face à la pollution lumineuse : éclairer juste \npar Aurélie Munier (Eurométropole de Metz\, directrice de la Transition écologique) et Lisa Salmon (Eurométropole de Metz\, chargée de mission Biodiversité et Paysage)  \n15h00-17h00 – Présentation des prototypes lumineux de FOSR et atelier participatif \nINSCRIPTION NÉCESSAIRE – Événement gratuit \nINSCRIPTION  \n\n\n\n\n 
URL:http://smartlighthub.eu/agenda/atelier-dechanges-biodiversite-et-eclairage/
LOCATION:Bliiida\, Avenue de Blida\, 7\, Metz\, 57000\, France
CATEGORIES:Atelier
ORGANIZER;CN="Smart%20Light%20Hub":MAILTO:Team@smartlighthub.eu
END:VEVENT
END:VCALENDAR