BEGIN:VCALENDAR
VERSION:2.0
PRODID:-//Smart Light-Hub - ECPv5.6.0//NONSGML v1.0//EN
CALSCALE:GREGORIAN
METHOD:PUBLISH
X-WR-CALNAME:Smart Light-Hub
X-ORIGINAL-URL:http://smartlighthub.eu
X-WR-CALDESC:évènements pour Smart Light-Hub
BEGIN:VTIMEZONE
TZID:Europe/Brussels
BEGIN:DAYLIGHT
TZOFFSETFROM:+0100
TZOFFSETTO:+0200
TZNAME:CEST
DTSTART:20220327T010000
END:DAYLIGHT
BEGIN:STANDARD
TZOFFSETFROM:+0200
TZOFFSETTO:+0100
TZNAME:CET
DTSTART:20221030T010000
END:STANDARD
END:VTIMEZONE
BEGIN:VEVENT
DTSTART;TZID=Europe/Brussels:20221006T140000
DTEND;TZID=Europe/Brussels:20221006T183000
DTSTAMP:20260424T092820
CREATED:20221004T100826Z
LAST-MODIFIED:20221004T100826Z
UID:3624-1665064800-1665081000@smartlighthub.eu
SUMMARY:Atelier d'Echanges et d'Hybridation
DESCRIPTION:L’équipe du Smart Light Hub organise un nouvel atelier d’Echanges et d’Hybridation\, sur le campus de l’ULiège\, sis à Arlon. \nCette séance d’Atelier sera centrée sur la thématique de la signalétique phosphorescente. \nProgramme:  \n\n14h00: Elodie Bebronne (HEC-ULiège) présentera le résultat de ses recherches doctorales : « Vers un éclairage public plus durable\, le cas de la Wallonie »\n14h45: Adrien Mans (ULiège\, projet Smart Light Hub) présentera le projet Smart Light Hub ainsi que les prototypes de luminaires passifs confectionnés au cours de cette année. \n15h30: Atelier d’échanges et d’hybridation avec les participants sur la thématique de la signalétique phosphorescente.\n\nEVENEMENT GRATUIT
URL:http://smartlighthub.eu/agenda/atelier-dechanges-et-dhybridation/
LOCATION:Campus ULiège d’Arlon\, 185 Avenue de Longwy\, Arlon\, 6700\, Belgique
ORGANIZER;CN="Smart%20Light%20Hub":MAILTO:Team@smartlighthub.eu
END:VEVENT
END:VCALENDAR