BEGIN:VCALENDAR
VERSION:2.0
PRODID:-//Smart Light-Hub - ECPv5.6.0//NONSGML v1.0//EN
CALSCALE:GREGORIAN
METHOD:PUBLISH
X-WR-CALNAME:Smart Light-Hub
X-ORIGINAL-URL:http://smartlighthub.eu
X-WR-CALDESC:évènements pour Smart Light-Hub
BEGIN:VTIMEZONE
TZID:Europe/Brussels
BEGIN:DAYLIGHT
TZOFFSETFROM:+0100
TZOFFSETTO:+0200
TZNAME:CEST
DTSTART:20220327T010000
END:DAYLIGHT
BEGIN:STANDARD
TZOFFSETFROM:+0200
TZOFFSETTO:+0100
TZNAME:CET
DTSTART:20221030T010000
END:STANDARD
END:VTIMEZONE
BEGIN:VEVENT
DTSTART;TZID=Europe/Brussels:20221021T083000
DTEND;TZID=Europe/Brussels:20221021T123000
DTSTAMP:20260424T092421
CREATED:20221025T082423Z
LAST-MODIFIED:20221025T082423Z
UID:3628-1666341000-1666355400@smartlighthub.eu
SUMMARY:Atelier Résine phosphorescente
DESCRIPTION:l’équipe Smart Light Hub de l’Université de Liège organise un 𝔸𝕥𝕖𝕝𝕚𝕖𝕣 𝕣𝕖́𝕤𝕚𝕟𝕖 𝕡𝕙𝕠𝕤𝕡𝕙𝕠𝕣𝕖𝕤𝕔𝕖𝕟𝕥𝕖 en collaboration avec Intradel et le centre de formation l’Atelier 4040 d’Herstal. \n\n\nL’objectif est de recouvrir de résine phosphorescente de divers coloris la signalétique gravée dans du bois afin de baliser des espaces extérieurs grâce à la phosphorescence et donc sans qu’il soit nécessaire d’éclairer artificiellement.
URL:http://smartlighthub.eu/agenda/atelier-resine-phosphorescente/
LOCATION:Intradel\, 20 rue prés Wigi\, Herstal\, Liège\, 4040\, Belgique
ORGANIZER;CN="Smart%20Light%20Hub":MAILTO:Team@smartlighthub.eu
END:VEVENT
END:VCALENDAR