BEGIN:VCALENDAR
VERSION:2.0
PRODID:-//Smart Light-Hub - ECPv5.6.0//NONSGML v1.0//EN
CALSCALE:GREGORIAN
METHOD:PUBLISH
X-WR-CALNAME:Smart Light-Hub
X-ORIGINAL-URL:http://smartlighthub.eu/de/
X-WR-CALDESC:Veranstaltungen für Smart Light-Hub
BEGIN:VTIMEZONE
TZID:Europe/Brussels
BEGIN:DAYLIGHT
TZOFFSETFROM:+0100
TZOFFSETTO:+0200
TZNAME:CEST
DTSTART:20210328T010000
END:DAYLIGHT
BEGIN:STANDARD
TZOFFSETFROM:+0200
TZOFFSETTO:+0100
TZNAME:CET
DTSTART:20211031T010000
END:STANDARD
END:VTIMEZONE
BEGIN:VEVENT
DTSTART;VALUE=DATE:20210326
DTEND;VALUE=DATE:20210327
DTSTAMP:20260424T133754
CREATED:20210601T134211Z
LAST-MODIFIED:20210601T134211Z
UID:2554-1616716800-1616803199@smartlighthub.eu
SUMMARY:COMAC 2 : Projekt Smart Light HUB
DESCRIPTION:COMAC 2 : Projekt Smart Light HUB ! \n\n\n\nHeute Morgen fand das 2. COMAC (Begleitendes Komitee) unseres Interreg V Grande Région / Großregion Smart Light Hub GR Projektes statt !\n\n\n\nEs war die Gelegenheit\, die Aktivitäten\, Fortschritte und manchmal enttäuschten Hoffnungen dieses Jahres 2020 Revue passieren zu lassen\, um uns auf das Jahr 2021 vorzubereiten ! \n\n\n\nVielen Dank an unsere Partner Université de Liège | TNT-Chiers-Alzette | Natagora | Universität Trier\, an das Gemeinsame Sekretariat\, aber auch an unsere Dolmetscherinnen Dominique und Marion für die Realisierung dieser Jahresausgabe !
URL:http://smartlighthub.eu/de/agenda/comac-2-projekt-smart-light-hub/
ATTACH;FMTTYPE=image/jpeg:http://smartlighthub.eu/wp-content/uploads/2021/06/Photo-COMAC-26.03.21-ZOOM.jpg
ORGANIZER;CN="Smart%20Light%20Hub":MAILTO:Team@smartlighthub.eu
END:VEVENT
END:VCALENDAR